BEGIN:VCALENDAR
VERSION:2.0
PRODID:-//Celebrations by Rupa Vira - ECPv6.15.20//NONSGML v1.0//EN
CALSCALE:GREGORIAN
METHOD:PUBLISH
X-WR-CALNAME:Celebrations by Rupa Vira
X-ORIGINAL-URL:https://celebrationva.com
X-WR-CALDESC:Events for Celebrations by Rupa Vira
REFRESH-INTERVAL;VALUE=DURATION:PT1H
X-Robots-Tag:noindex
X-PUBLISHED-TTL:PT1H
BEGIN:VTIMEZONE
TZID:America/New_York
BEGIN:DAYLIGHT
TZOFFSETFROM:-0500
TZOFFSETTO:-0400
TZNAME:EDT
DTSTART:20240310T070000
END:DAYLIGHT
BEGIN:STANDARD
TZOFFSETFROM:-0400
TZOFFSETTO:-0500
TZNAME:EST
DTSTART:20241103T060000
END:STANDARD
BEGIN:DAYLIGHT
TZOFFSETFROM:-0500
TZOFFSETTO:-0400
TZNAME:EDT
DTSTART:20250309T070000
END:DAYLIGHT
BEGIN:STANDARD
TZOFFSETFROM:-0400
TZOFFSETTO:-0500
TZNAME:EST
DTSTART:20251102T060000
END:STANDARD
BEGIN:DAYLIGHT
TZOFFSETFROM:-0500
TZOFFSETTO:-0400
TZNAME:EDT
DTSTART:20260308T070000
END:DAYLIGHT
BEGIN:STANDARD
TZOFFSETFROM:-0400
TZOFFSETTO:-0500
TZNAME:EST
DTSTART:20261101T060000
END:STANDARD
END:VTIMEZONE
BEGIN:VEVENT
DTSTART;VALUE=DATE:20250831
DTEND;VALUE=DATE:20250901
DTSTAMP:20260420T001657
CREATED:20250818T184921Z
LAST-MODIFIED:20250825T145657Z
UID:101992-1756598400-1756684799@celebrationva.com
SUMMARY:Summer Restaurant Week - Sunday Brunch Special - $25
DESCRIPTION:Sunday\, August 31 | Celebration by Rupa Vira \nCelebrate the extended Summer Restaurant Week with our special Sunday Brunch Buffet like no other — filled with bold Indian flavors\, vibrant dishes\, and live chef stations. \nEnjoy our Sunday brunch for just $25 (regularly $27) on Sunday\, August 24 — as part of our Restaurant Week celebration! \n\n️ What to Expect:\n✅ A delicious spread of vegetarian & non-vegetarian dishes✅ Signature items from Chef Rupa and team✅ Live Dosa Station featuring made-to-order favorites✅ Warm\, vibrant ambiance perfect for family and friends \n\nWhether you’re a regular or joining us for the first time\, this is your chance to enjoy an unforgettable brunch experience at a special price. \nDate: Sunday\, August 24⏰ Time: Brunch Buffet available until 3 PMPrice: Only $25 per person (Restaurant Week Special) \n\nReservations are highly recommended! \nCome hungry. Leave delighted.
URL:https://celebrationva.com/event/summer-restaurant-week-brunch/
LOCATION:Celebration by Rupa Vira\, 44260 Ice Rink Plaza\, Unit 120\, Ashburn\, VA\, 20147\, United States
CATEGORIES:Chef's Special,Restaurant Week
ATTACH;FMTTYPE=image/gif:https://celebrationva.com/wp-content/uploads/2024/09/Weekend-Brunch-Buffet-at-Celebration-by-Rupa-Vira-low-1.gif
END:VEVENT
END:VCALENDAR