BEGIN:VCALENDAR
VERSION:2.0
PRODID:-//Celebrations by Rupa Vira - ECPv6.15.20//NONSGML v1.0//EN
CALSCALE:GREGORIAN
METHOD:PUBLISH
X-ORIGINAL-URL:https://celebrationva.com
X-WR-CALDESC:Events for Celebrations by Rupa Vira
REFRESH-INTERVAL;VALUE=DURATION:PT1H
X-Robots-Tag:noindex
X-PUBLISHED-TTL:PT1H
BEGIN:VTIMEZONE
TZID:America/New_York
BEGIN:DAYLIGHT
TZOFFSETFROM:-0500
TZOFFSETTO:-0400
TZNAME:EDT
DTSTART:20240310T070000
END:DAYLIGHT
BEGIN:STANDARD
TZOFFSETFROM:-0400
TZOFFSETTO:-0500
TZNAME:EST
DTSTART:20241103T060000
END:STANDARD
BEGIN:DAYLIGHT
TZOFFSETFROM:-0500
TZOFFSETTO:-0400
TZNAME:EDT
DTSTART:20250309T070000
END:DAYLIGHT
BEGIN:STANDARD
TZOFFSETFROM:-0400
TZOFFSETTO:-0500
TZNAME:EST
DTSTART:20251102T060000
END:STANDARD
BEGIN:DAYLIGHT
TZOFFSETFROM:-0500
TZOFFSETTO:-0400
TZNAME:EDT
DTSTART:20260308T070000
END:DAYLIGHT
BEGIN:STANDARD
TZOFFSETFROM:-0400
TZOFFSETTO:-0500
TZNAME:EST
DTSTART:20261101T060000
END:STANDARD
END:VTIMEZONE
BEGIN:VEVENT
DTSTART;TZID=America/New_York:20250525T113000
DTEND;TZID=America/New_York:20250525T150000
DTSTAMP:20260421T095312
CREATED:20250521T182324Z
LAST-MODIFIED:20250522T145210Z
UID:101545-1748172600-1748185200@celebrationva.com
SUMMARY:Sunday Brunch Buffet - Memorial Day Weekend Special
DESCRIPTION:y This Sunday | May 25 | 11:30 AM – 2:30 PMAt Celebration by Rupa Vira | $27 per person \nJoin us this Sunday for a Memorial Day Special Brunch Buffet as we honor and remember the brave men and women who served our country. Gather your family and friends for a festive and flavorful afternoon filled with culinary delights and warm hospitality. \n️ What to Expect:\n\n\nLive Pasta Station with sizzling varieties \n\n\nIndian Street Food Favorites & Chaats \n\n\nJuicy Kebabs fresh from the Tandoor \n\n\nFlavorful Curries & Regional Specialties \n\n\nUnique Fusion & Indian Desserts \n\n\nSpecial Brunch Cocktails & Refreshing Beverages \n\n\nWhether you’re celebrating the holiday or simply enjoying your long weekend\, our Memorial Day Brunch Buffet is the perfect way to indulge in good food and great company. \nReserve your table now!
URL:https://celebrationva.com/event/memorialdayweekendbrunch/
LOCATION:Celebration by Rupa Vira\, 44260 Ice Rink Plaza\, Unit 120\, Ashburn\, VA\, 20147\, United States
CATEGORIES:Chef's Special
ATTACH;FMTTYPE=image/jpeg:https://celebrationva.com/wp-content/uploads/2022/09/Sonia-Rohan-0073-scaled.jpeg
END:VEVENT
END:VCALENDAR