BEGIN:VCALENDAR
VERSION:2.0
PRODID:-//Celebrations by Rupa Vira - ECPv6.15.20//NONSGML v1.0//EN
CALSCALE:GREGORIAN
METHOD:PUBLISH
X-WR-CALNAME:Celebrations by Rupa Vira
X-ORIGINAL-URL:https://celebrationva.com
X-WR-CALDESC:Events for Celebrations by Rupa Vira
REFRESH-INTERVAL;VALUE=DURATION:PT1H
X-Robots-Tag:noindex
X-PUBLISHED-TTL:PT1H
BEGIN:VTIMEZONE
TZID:America/New_York
BEGIN:DAYLIGHT
TZOFFSETFROM:-0500
TZOFFSETTO:-0400
TZNAME:EDT
DTSTART:20230312T070000
END:DAYLIGHT
BEGIN:STANDARD
TZOFFSETFROM:-0400
TZOFFSETTO:-0500
TZNAME:EST
DTSTART:20231105T060000
END:STANDARD
BEGIN:DAYLIGHT
TZOFFSETFROM:-0500
TZOFFSETTO:-0400
TZNAME:EDT
DTSTART:20240310T070000
END:DAYLIGHT
BEGIN:STANDARD
TZOFFSETFROM:-0400
TZOFFSETTO:-0500
TZNAME:EST
DTSTART:20241103T060000
END:STANDARD
BEGIN:DAYLIGHT
TZOFFSETFROM:-0500
TZOFFSETTO:-0400
TZNAME:EDT
DTSTART:20250309T070000
END:DAYLIGHT
BEGIN:STANDARD
TZOFFSETFROM:-0400
TZOFFSETTO:-0500
TZNAME:EST
DTSTART:20251102T060000
END:STANDARD
BEGIN:DAYLIGHT
TZOFFSETFROM:-0500
TZOFFSETTO:-0400
TZNAME:EDT
DTSTART:20260308T070000
END:DAYLIGHT
BEGIN:STANDARD
TZOFFSETFROM:-0400
TZOFFSETTO:-0500
TZNAME:EST
DTSTART:20261101T060000
END:STANDARD
END:VTIMEZONE
BEGIN:VEVENT
DTSTART;TZID=America/New_York:20250511T170000
DTEND;TZID=America/New_York:20250511T213000
DTSTAMP:20260420T082000
CREATED:20250330T050034Z
LAST-MODIFIED:20250421T044912Z
UID:101476-1746982800-1746999000@celebrationva.com
SUMMARY:Mother's Day Chef's Special Dinner – Sunday\, May 11
DESCRIPTION:This Mother’s Day\, treat the most important woman in your life to an extraordinary culinary experience at Celebration by Rupa Vira. Join us for a special Mother’s Day Brunch Buffet\, thoughtfully crafted to make this day as memorable as she is. \nDate: Sunday\, May 11\, 2025 Time: 10:00 AM – 3:00 PM Price: $40 per person \nBuffet Highlights: \n\n\nLive Stations: Watch as our chefs prepare your favorites right before your eyes. \n\n\nChaat Corner: Indulge in a variety of traditional street foods\, freshly made and bursting with flavor. \n\n\nTandoor Temptations: Savor the smoky goodness of freshly grilled delicacies straight from the tandoor. \n\n\nMore Delights: Enjoy a selection of signature dishes and desserts\, designed to please every palate. \n\n\nSpecial Features: \n\n\nElegant and festive ambiance \n\n\nPerfect for family gatherings \n\n\nKid-friendly options available \n\n\nReservations are recommended as seating is limited. Celebrate this Mother’s Day in style and give her the gift of an unforgettable meal. \nReserve your table now! \nWe look forward to celebrating this special day with you and your loved ones at Celebration by Rupa Vira! \n 
URL:https://celebrationva.com/event/mothers-day-dinner/
LOCATION:Celebration by Rupa Vira\, 44260 Ice Rink Plaza\, Unit 120\, Ashburn\, VA\, 20147\, United States
CATEGORIES:Chef's Special
ATTACH;FMTTYPE=image/jpeg:https://celebrationva.com/wp-content/uploads/2022/09/Sonia-Rohan-0073-scaled.jpeg
END:VEVENT
BEGIN:VEVENT
DTSTART;TZID=America/New_York:20250406T113000
DTEND;TZID=America/New_York:20250406T150000
DTSTAMP:20260420T082000
CREATED:20250402T174851Z
LAST-MODIFIED:20250402T174851Z
UID:101494-1743939000-1743951600@celebrationva.com
SUMMARY:Navratri Special Brunch Buffet - April 6
DESCRIPTION:Celebrate the festival of colors with a vibrant Holi Special Brunch Buffet at Celebration by Rupa Vira! Indulge in a festive feast filled with flavors\, colors\, and joy for just $32 per person. \nEnjoy a delightful spread featuring:✅ A rich selection of vegetarian and non-vegetarian dishes✅ Multiple savory and festive specialties crafted by our talented chefs✅ Live Stations with freshly prepared delights \nJoin us for a memorable Holi celebration with delicious food and festive vibes! \n Date: Sunday\, March 16 Location: Celebration by Rupa Vira \nReserve your table now!
URL:https://celebrationva.com/event/navratri-special-brunch/
LOCATION:Celebration by Rupa Vira\, 44260 Ice Rink Plaza\, Unit 120\, Ashburn\, VA\, 20147\, United States
CATEGORIES:Chef's Special
ATTACH;FMTTYPE=image/jpeg:https://celebrationva.com/wp-content/uploads/2022/09/Sonia-Rohan-0073-scaled.jpeg
END:VEVENT
BEGIN:VEVENT
DTSTART;TZID=America/New_York:20250309T130000
DTEND;TZID=America/New_York:20250309T170000
DTSTAMP:20260420T082001
CREATED:20250225T165117Z
LAST-MODIFIED:20250225T174125Z
UID:101359-1741525200-1741539600@celebrationva.com
SUMMARY:Join Us at Shaadi Showcase – March 9\, 2025
DESCRIPTION:Planning your dream wedding? Visit Rupa Vira’s Catering Services at the Shaadi Showcase on March 9\, 2025\, at Westfields Marriott\, Chantilly\, VA\, and discover what’s new for the 2025 wedding season! \nMeet Chef Rupa Vira and her expert culinary team as they showcase an array of delicious samples and wedding catering ideas that can make your big day truly unforgettable. Whether you’re envisioning a grand celebration or an intimate gathering\, we specialize in creating customized menus that fit your taste and style. \nWhy Visit Our Booth?\n✨ Taste our signature dishes and exciting new flavors✨ Discover how we can customize menus for your unique celebration✨ Discuss your event needs directly with our experienced catering team✨ Get Inspired by the latest trends in wedding cuisine for 2025 \nAbout Rupa Vira’s Catering Services\nRecognized as one of the top Indian caterers in Virginia\, Washington DC\, and Maryland\, Rupa Vira’s Catering Services brings the authentic flavors of India to your wedding table. Our diverse culinary expertise includes: \n\nNorth-Indian / Punjabi – Bold\, flavorful\, and hearty dishes\nGujarati – Light\, wholesome\, and subtly sweet flavors\nSouth Indian – Aromatic\, spice-rich\, and coconut-infused specialties\nIndo-Chinese – The perfect fusion of spices and textures\nBombay Street Style – Iconic flavors straight from Mumbai’s food scene\n\nWe customize every menu to meet your preferences and dietary needs\, ensuring a seamless and delicious dining experience for your guests. \nAbout Shaadi Showcase\nThe Shaadi Showcase is your one-stop destination for wedding planning. Explore the latest trends in fashion\, décor\, and entertainment\, taste gourmet samples\, and connect with top wedding professionals—all under one roof. \nCome say hello\, try our delicious creations\, and see how we can help make your wedding truly unforgettable! \nFor pre-event inquiries or to schedule a consultation:(703) 261-4955 | rupavira.com
URL:https://celebrationva.com/event/join-us-at-shaadi-showcase-march-9-2025/
LOCATION:Westfields Marriott\, 14750 Conference Center Dr\, Chantilly\, VA\, 20151\, United States
CATEGORIES:Chef's Special,Exhibit
END:VEVENT
BEGIN:VEVENT
DTSTART;TZID=America/New_York:20250214T170000
DTEND;TZID=America/New_York:20250214T220000
DTSTAMP:20260420T082001
CREATED:20250128T052550Z
LAST-MODIFIED:20250128T052927Z
UID:101267-1739552400-1739570400@celebrationva.com
SUMMARY:Celebrate Love This Valentine’s Day at Celebration by Rupa Vira ❤️
DESCRIPTION:Join us for an unforgettable evening of romance and indulgence on Valentine’s Day\, as we present a specially curated menu designed to delight your taste buds and ignite the spark of love. \nFrom 5 PM to 10 PM\, let us set the stage for your perfect celebration with an enchanting culinary journey featuring dishes inspired by love\, passion\, and the vibrant flavors of India. \nAdding to the romantic ambiance\, enjoy the mesmerizing sounds of Live Tabla performed by renowned Bollywood Tabla & Drummer artist Ganesh Jagtap. Let the rhythm of love fill the air as you savor every bite of our exquisite creations paired with signature cocktails and wines. \nMake this Valentine’s Day truly memorable with your special someone at Celebration by Rupa Vira. \nReserve your table now—limited seating is available!
URL:https://celebrationva.com/event/valentines-day-2025/
LOCATION:Celebration by Rupa Vira\, 44260 Ice Rink Plaza\, Unit 120\, Ashburn\, VA\, 20147\, United States
CATEGORIES:Chef's Special
END:VEVENT
BEGIN:VEVENT
DTSTART;VALUE=DATE:20250101
DTEND;VALUE=DATE:20250102
DTSTAMP:20260420T082001
CREATED:20241226T214142Z
LAST-MODIFIED:20241226T214142Z
UID:101181-1735689600-1735775999@celebrationva.com
SUMMARY:New Year Day Buffet at Celebration by Rupa Vira
DESCRIPTION:Start the new year off right with Brunch Buffet at Celebration by Rupa Vira. \n A rich selection of vegetarian and non-vegetarian dishes\n Multiple savory options crafted by our talented chefs\n Live station featuring freshly prepared delights \nWhether you’re a long-time fan of our brunch or discovering it for the first time\, you’ll experience the finest flavors\, freshest ingredients\, and the perfect atmosphere for gathering with family and friends. \nWe look forward to seeing you at the brunch table! \n Make Reservation
URL:https://celebrationva.com/event/new-year-buffet-at-celebration-by-rupa-vira/
LOCATION:Celebration by Rupa Vira\, 44260 Ice Rink Plaza\, Unit 120\, Ashburn\, VA\, 20147\, United States
CATEGORIES:Chef's Special
ATTACH;FMTTYPE=image/gif:https://celebrationva.com/wp-content/uploads/2024/09/Weekend-Brunch-Buffet-at-Celebration-by-Rupa-Vira-low-1.gif
END:VEVENT
BEGIN:VEVENT
DTSTART;VALUE=DATE:20241031
DTEND;VALUE=DATE:20241104
DTSTAMP:20260420T082001
CREATED:20241025T152454Z
LAST-MODIFIED:20241025T184306Z
UID:93811-1730332800-1730678399@celebrationva.com
SUMMARY:Diwali Celebrations at Celebration by Rupa Vira
DESCRIPTION:
URL:https://celebrationva.com/event/diwali/
LOCATION:Celebration by Rupa Vira\, 44260 Ice Rink Plaza\, Unit 120\, Ashburn\, VA\, 20147\, United States
CATEGORIES:Chef's Special
ATTACH;FMTTYPE=image/gif:https://celebrationva.com/wp-content/uploads/2024/09/Weekend-Brunch-Buffet-at-Celebration-by-Rupa-Vira-low-1.gif
END:VEVENT
BEGIN:VEVENT
DTSTART;VALUE=DATE:20241013
DTEND;VALUE=DATE:20241021
DTSTAMP:20260420T082001
CREATED:20240926T032209Z
LAST-MODIFIED:20241016T041402Z
UID:91270-1728777600-1729468799@celebrationva.com
SUMMARY:DMV Butter Chicken Festival at Celebration by Rupa Vira
DESCRIPTION:Celebration by Rupa Vira\, renowned as one of the Best Indian Restaurants in the DMV\, is excited to participate in the inaugural Butter Chicken Festival\, running from October 13 to 20\, 2024. This unique food festival will feature top local restaurants showcasing their creative versions of the beloved Butter Chicken dish. \nAs part of the event\, Celebration by Rupa Vira will be offering a special twist with their exclusive Chef’s Special Butter Chicken Spaghetti. This innovative fusion dish is a must-try for lovers of Indian cuisine and food enthusiasts alike. Proceeds from the sale of this dish will be donated to World Central Kitchen (WCK)\, a non-profit founded by Chef José Andrés that focuses on providing meals in times of crisis. \nThe festival will conclude with an exciting live cooking demo and book signing by acclaimed author Monica Saigal (Bhide)\, who will launch her new children’s book\, “Papa’s Butter Chicken\,” featuring a foreword by Chef José Andrés. \nDon’t miss this opportunity to savor a delicious meal for a great cause. Join Celebration by Rupa Vira and support the World Central Kitchen through your love of Butter Chicken!
URL:https://celebrationva.com/event/butter-chicken-festival-at-celebration-by-rupa-vira/
LOCATION:Celebration by Rupa Vira\, 44260 Ice Rink Plaza\, Unit 120\, Ashburn\, VA\, 20147\, United States
CATEGORIES:Chef's Special
ATTACH;FMTTYPE=image/gif:https://celebrationva.com/wp-content/uploads/2022/07/celebration_by_rupa_vira_room_gif_web.gif
END:VEVENT
BEGIN:VEVENT
DTSTART;TZID=America/New_York:20241010T180000
DTEND;TZID=America/New_York:20241010T220000
DTSTAMP:20260420T082001
CREATED:20240926T030543Z
LAST-MODIFIED:20240926T030543Z
UID:91224-1728583200-1728597600@celebrationva.com
SUMMARY:Celebration by Rupa Vira at Best of NoVA Soiree
DESCRIPTION:Experience the Best Restaurants of Northern Virginia: Rupa Vira’s Celebration Joins NoVA Soiree 2024\n\nCelebration by Rupa Vira is excited to be a part of the highly anticipated Northern Virginia Magazine Best of NoVA Soiree\, scheduled for October 10\, 2024. This exclusive event brings together the region’s best restaurants\, offering a night filled with food\, entertainment\, and vibrant community connections. Known for its innovative take on Indian cuisine\, Celebration by Rupa Vira is set to showcase its culinary artistry\, serving guests a specially curated dish that captures the essence of modern Indian flavors. \nThe Best of NoVA Soiree\, hosted by Northern Virginia Magazine and empowered by Project Purple\, is a celebration of the area’s dynamic culinary scene. Attendees will have the opportunity to sample signature dishes from the finest restaurants across Northern Virginia\, featuring everything from artisan doughnuts to classic Italian cuisine. Celebration by Rupa Vira will join this esteemed lineup\, offering an unforgettable taste of its signature contemporary Indian cuisine\, which has made the restaurant a favorite among food lovers in the area.
URL:https://celebrationva.com/event/celebration-by-rupa-vira-at-best-of-nova-soiree/
LOCATION:CrystalView Event Center\, 12025 Lee Jackson Memorial Hwy\, Fairfax\, VA\, 22033\, United States
CATEGORIES:Exhibit
ATTACH;FMTTYPE=image/webp:https://celebrationva.com/wp-content/uploads/2024/09/bon-soiree-header.webp
END:VEVENT
END:VCALENDAR