BEGIN:VCALENDAR
VERSION:2.0
PRODID:-//Celebrations by Rupa Vira - ECPv6.15.20//NONSGML v1.0//EN
CALSCALE:GREGORIAN
METHOD:PUBLISH
X-WR-CALNAME:Celebrations by Rupa Vira
X-ORIGINAL-URL:https://celebrationva.com
X-WR-CALDESC:Events for Celebrations by Rupa Vira
REFRESH-INTERVAL;VALUE=DURATION:PT1H
X-Robots-Tag:noindex
X-PUBLISHED-TTL:PT1H
BEGIN:VTIMEZONE
TZID:America/New_York
BEGIN:DAYLIGHT
TZOFFSETFROM:-0500
TZOFFSETTO:-0400
TZNAME:EDT
DTSTART:20250309T070000
END:DAYLIGHT
BEGIN:STANDARD
TZOFFSETFROM:-0400
TZOFFSETTO:-0500
TZNAME:EST
DTSTART:20251102T060000
END:STANDARD
BEGIN:DAYLIGHT
TZOFFSETFROM:-0500
TZOFFSETTO:-0400
TZNAME:EDT
DTSTART:20260308T070000
END:DAYLIGHT
BEGIN:STANDARD
TZOFFSETFROM:-0400
TZOFFSETTO:-0500
TZNAME:EST
DTSTART:20261101T060000
END:STANDARD
BEGIN:DAYLIGHT
TZOFFSETFROM:-0500
TZOFFSETTO:-0400
TZNAME:EDT
DTSTART:20270314T070000
END:DAYLIGHT
BEGIN:STANDARD
TZOFFSETFROM:-0400
TZOFFSETTO:-0500
TZNAME:EST
DTSTART:20271107T060000
END:STANDARD
END:VTIMEZONE
BEGIN:VEVENT
DTSTART;VALUE=DATE:20260120
DTEND;VALUE=DATE:20260209
DTSTAMP:20260420T095918
CREATED:20250114T080911Z
LAST-MODIFIED:20260203T070040Z
UID:101228-1768867200-1770595199@celebrationva.com
SUMMARY:DC Winter Restaurant Week
DESCRIPTION:🔥 Winter Restaurant Week at Celebration by Rupa Vira\nA Four-Course Culinary Journey Inspired by Modern India\nThis Winter Restaurant Week\, join us at Celebration by Rupa Vira for an elevated four-course dining experience that blends regional Indian flavors with modern technique and seasonal comfort. \nOur specially curated $40 Winter Restaurant Week menu highlights Chef Rupa Vira’s signature creativity — from soulful soups and playful street-food bites to luxurious mains and an indulgent dessert finale. \nWhether you’re a longtime guest or visiting us for the first time\, this menu is designed to surprise\, delight\, and warm you from the very first sip to the last sweet bite. \n🍽️ Winter Restaurant Week Menu Highlights\nFirst Course\nGinger–Carrot Elixir & Pink Kulcha MeltA velvety carrot-ginger soup infused with warming spices\, paired with a beet-tinted kulcha filled with melted mozzarella. \n\nOptional Appetizer Course (+$15)\nUthappam Tacos — Veg or ChickenA playful South-Indian-meets-street-food creation served in fluffy rice-flour tacos. \n\n\nVeg: Spiced vegetables with coconut-chutney crema \n\n\nChicken: Chicken tikka with chopped onions & cilantro aioli \n\n\n\nMain Course — Choose One\n\n\nKale–Quinoa Paneer KoftaHand-rolled paneer\, kale & quinoa koftas in a tomato-kasuri methi gravy \n\n\nCoconut Risotto with Charred ShrimpSlow-cooked coconut risotto topped with tandoori-charred shrimp \n\n\nChicken Shahi HandiBoneless chicken simmered in a luxurious cashew-tomato cream with saffron & cardamom \n\n\nOptional Add-On:Truffle Dal by Rupa Vira (+$15) — Black lentils simmered overnight with cream\, butter & aromatic truffle \nServed with your choice of Basmati Rice\, Garlic Naan\, or Tandoori Roti \n\nDessert\nChocolate Samosa à la ModeWarm chocolate-filled samosas served with vanilla ice cream and a salted caramel drizzle. \n\n🍷 Elevate Your Experience with Pairings\nEnhance your Winter Restaurant Week meal with curated cocktails\, wines\, or craft beers from our full bar. From spice-forward cocktails to elegant wines that complement rich Indian flavors\, our beverage menu is designed to complete the experience. \n\n📍 Why Dine With Us During Restaurant Week?\n\n\nChef-driven modern Indian cuisine \n\n\nSeasonal\, limited-time menu \n\n\nVegetarian & non-vegetarian options \n\n\nFull bar with craft cocktails \n\n\nPerfect for date nights\, celebrations & group dining
URL:https://celebrationva.com/event/dc-winter-restaurant-week-2026/
LOCATION:Celebration by Rupa Vira\, 44260 Ice Rink Plaza\, Unit 120\, Ashburn\, VA\, 20147\, United States
CATEGORIES:Chef's Special,Restaurant Week
ATTACH;FMTTYPE=image/jpeg:https://celebrationva.com/wp-content/uploads/2022/02/wapo-celebration-guests-web.jpeg
END:VEVENT
BEGIN:VEVENT
DTSTART;TZID=America/New_York:20260214T170000
DTEND;TZID=America/New_York:20260214T220000
DTSTAMP:20260420T095918
CREATED:20260131T212343Z
LAST-MODIFIED:20260212T191352Z
UID:103083-1771088400-1771106400@celebrationva.com
SUMMARY:Valentine’s Day Dinner at Celebration by Rupa Vira
DESCRIPTION:Saturday\, February 14\, 2026  |  5-Course Prix Fixe  |  $69 per person \nAn elevated Valentine’s Day dining experience—five romantic courses\, vibrant flavors\, and\nlive music by Ganesh Jagtap for the perfect date-night ambiance. \n\n\nReserve Your Table\n \nLimited seating. Reservations strongly recommended. \n\n \n\n \n\nEvent Details\n\n\nDate: Saturday\, February 14\, 2026\nPrice: $69 per person (five-course prix fixe)\nExperience: Romantic dinner + live music\nLocation: Celebration by Rupa Vira (Ashburn\, VA)\n\n\n\n \n\nFive-Course Prix Fixe Menu ($69)\n\nFirst Course (Soup)\nLaal Ishq Shorba — Tomato\, basil\, chilli chaat croutons \nSecond Course (Appetizer) — Choose One \n\nRuby Sheekh Kabob — Chicken\, beetroot purée\, pistachio crumble\, pomegranate molasses butter glaze\nChaat Affair (Veg) — Khasta kachori\, matar (pea) mousse\, tamarind gel\, mint gel\, yogurt foam\n\nThird Course (Salad)\nSunehri Kachumber — Diced tropical fruits & veggies\, edible glitter \nPalate Cleanser\nStrawberry Kiss — Strawberry spiced sphere\, burst of flavor \nFourth Course (Mains) — Choose One \n\nPearls of Kerala — Pan-seared scallops\, Kerala moliee\, curry leaf oil\, coconut foam\nGolden Embrace — Malai chicken tikka\, saffron gravy\, chilli threads\nPaneer à la Rouge (Veg) — Grilled lemon-dill paneer in a red pepper cream sauce\n\nServed with garlic naan\, tandoori roti\, or steamed white rice. \nLast Course (Dessert)\nBerry in Love — Raspberry\, white chocolate cream\, thin cake layer \n\n\n \n\nLive Music\n\nLive Music by Ganesh Jagtap\nGanesh Jagtap is a well-known Bollywood musical artist in the DMV region\, celebrated for soulful vocals and captivating live performances.\nBlending timeless Bollywood classics with contemporary favorites\, he creates an intimate\, romantic atmosphere—perfect for Valentine’s Day. \nLearn more: ganeshlivemusic.com \n\n\n \n\nReservation Notes\n\n\nLimited seating—reserve early.\nPrix fixe menu is for Valentine’s Day dinner service on February 14.\nPlease inform us of allergies when booking.\n\n\n\n\n \n\nReserve Your Table
URL:https://celebrationva.com/event/valentines-day/
LOCATION:Celebration by Rupa Vira\, 44260 Ice Rink Plaza\, Unit 120\, Ashburn\, VA\, 20147\, United States
ATTACH;FMTTYPE=image/jpeg:https://celebrationva.com/wp-content/uploads/2022/02/wapo-celebration-guests-web.jpeg
END:VEVENT
BEGIN:VEVENT
DTSTART;TZID=America/New_York:20260308T113000
DTEND;TZID=America/New_York:20260308T150000
DTSTAMP:20260420T095918
CREATED:20250304T161928Z
LAST-MODIFIED:20260224T040738Z
UID:101385-1772969400-1772982000@celebrationva.com
SUMMARY:Holi Special Brunch Buffet
DESCRIPTION:Celebrate the festival of colors with a vibrant Holi Special Brunch Buffet at Celebration by Rupa Vira! Indulge in a festive feast filled with flavors\, colors\, and joy for just $32 per person. \nEnjoy a delightful spread featuring:✅ A rich selection of vegetarian and non-vegetarian dishes✅ Multiple savory and festive specialties crafted by our talented chefs✅ Live Stations with freshly prepared delights \nJoin us for a memorable Holi celebration with delicious food and festive vibes! \nDate: Sunday\, March 8Location: Celebration by Rupa Vira \nReserve your table now!
URL:https://celebrationva.com/event/holi-brunch-buffet/
LOCATION:Celebration by Rupa Vira\, 44260 Ice Rink Plaza\, Unit 120\, Ashburn\, VA\, 20147\, United States
CATEGORIES:Chef's Special
ATTACH;FMTTYPE=image/jpeg:https://celebrationva.com/wp-content/uploads/2022/09/Sonia-Rohan-0073-scaled.jpeg
END:VEVENT
BEGIN:VEVENT
DTSTART;TZID=America/New_York:20260411T113000
DTEND;TZID=America/New_York:20260411T150000
DTSTAMP:20260420T095918
CREATED:20251202T063938Z
LAST-MODIFIED:20260324T144410Z
UID:102605-1775907000-1775919600@celebrationva.com
SUMMARY:Shake Your Mimosa - Bolly Brunch
DESCRIPTION:Shake Your Mimosa — Bolly Brunch\nWhere brunch meets Bollywood.\nWelcome to Bollywood Brunch Sessions at Celebration by Rupa Vira — a vibrant daytime party inspired by the colors\, chaos\, and charm of Bombay and Dilli streets. \nThink bold flavors\, killer cocktails\, high-energy entertainment\, and the brunch culture you’ve been waiting for. \n\nWhat to Expect\n✨ Live DJs spinning Bollywood\, remixes\, and crowd favorites✨ Elevated brunch plates from our special à la carte menu✨ Signature cocktails & mocktails created for the moment✨ A high-vibe\, social\, energy-filled Sunday experience \nThis is brunch with a beat — fun\, flavorful\, and unapologetically desi.
URL:https://celebrationva.com/event/shake-your-mimosa-bolly-brunch/
LOCATION:Celebration by Rupa Vira\, 44260 Ice Rink Plaza\, Unit 120\, Ashburn\, VA\, 20147\, United States
CATEGORIES:Brunch
ATTACH;FMTTYPE=image/jpeg:https://celebrationva.com/wp-content/uploads/2022/01/2022-01-09-Celebration-by-Rupa-Vira-Food-Photos-Taken-by-RAH-Visuals-110-scaled.jpg
END:VEVENT
BEGIN:VEVENT
DTSTART;TZID=America/New_York:20260412T113000
DTEND;TZID=America/New_York:20260412T150000
DTSTAMP:20260420T095918
CREATED:20260317T051958Z
LAST-MODIFIED:20260407T155400Z
UID:103172-1775993400-1776006000@celebrationva.com
SUMMARY:Vaisakhi Grand Brunch Buffet
DESCRIPTION:Sunday\, April 12\, 2026 | Celebration by Rupa Vira \nStep into a vibrant celebration of harvest\, culture\, and community as we bring the spirit of Vaisakhi to life with a specially curated Brunch Buffet Experience. From bold Punjabi flavors to festive entertainment\, this is more than just brunch—it’s a celebration. \n \n\n✨ What Makes This Vaisakhi Brunch Special\n🔥 Live Chaat StationVibrant\, delicious chaats and street snacks —made live\, just for you. \n🌿 Sarson Saag Bites & Punjabi ClassicsA tribute to the flavors of Punjab featuring Sarson da Saag\, Cholle Bhature\, Kadhi Pakora\, and more comforting favorites. \n🎶 Live Music & Festive VibesEnjoy energetic beats by DJ Kush that bring the joy of Vaisakhi straight to your table. \n📸 Photo Booth ExperienceCapture the moment with friends & family in a festive-themed photo booth—perfect for memories that last. \n\n🍽️ The Celebration Continues\nIndulge in our signature Brunch Buffet featuring a wide variety of vegetarian and non-vegetarian dishes\, street food favorites\, chef specials\, and decadent desserts—all crafted to celebrate the richness of Indian cuisine. \n\n🌼 Celebrate. Savor. Share.\nJoin us as we honor tradition\, flavor\, and togetherness this Vaisakhi. Seats are limited—reserve your table early and be part of this joyful celebration.
URL:https://celebrationva.com/event/vaisakhi-grand-brunch-buffet/
LOCATION:Celebration by Rupa Vira\, 44260 Ice Rink Plaza\, Unit 120\, Ashburn\, VA\, 20147\, United States
CATEGORIES:Brunch,Chef's Special,Holidays
ATTACH;FMTTYPE=image/jpeg:https://celebrationva.com/wp-content/uploads/2026/03/5.jpg
END:VEVENT
BEGIN:VEVENT
DTSTART;TZID=America/New_York:20260419T113000
DTEND;TZID=America/New_York:20260419T150000
DTSTAMP:20260420T095918
CREATED:20240926T033616Z
LAST-MODIFIED:20260415T152217Z
UID:91295-1776598200-1776610800@celebrationva.com
SUMMARY:Sunday Brunch Buffet at Celebration by Rupa Vira
DESCRIPTION:Experience the perfect blend of quality\, variety\, and vibrance with our Sunday Brunch Buffet at Celebration by Rupa Vira. For just $25 per person\, indulge in a feast that includes: \n\nA rich selection of vegetarian and non-vegetarian dishes\nMultiple savory options crafted by our talented chefs\nA live station featuring freshly prepared delights\n\nWhether you’re a devoted fan of our brunch buffet or experiencing it for the first time\, you’ll enjoy the finest flavors\, freshest ingredients\, and a welcoming atmosphere perfect for gathering with family and friends. \nMake your Sunday Brunch plans with us and rediscover the joy of a delightful weekend tradition! \n Learn More
URL:https://celebrationva.com/event/sunday-brunch-buffet-at-celebration-by-rupa-vira/
LOCATION:Celebration by Rupa Vira\, 44260 Ice Rink Plaza\, Unit 120\, Ashburn\, VA\, 20147\, United States
CATEGORIES:Brunch,Chef's Special
ATTACH;FMTTYPE=image/gif:https://celebrationva.com/wp-content/uploads/2024/09/Weekend-Brunch-Buffet-at-Celebration-by-Rupa-Vira-low-1.gif
END:VEVENT
BEGIN:VEVENT
DTSTART;TZID=America/New_York:20260510T113000
DTEND;TZID=America/New_York:20260510T150000
DTSTAMP:20260420T095918
CREATED:20250330T044658Z
LAST-MODIFIED:20260415T153613Z
UID:101471-1778412600-1778425200@celebrationva.com
SUMMARY:Mother's Day Brunch Buffet – Sunday\, May 10
DESCRIPTION:This Mother’s Day\, treat the most important woman in your life to an extraordinary culinary experience at Celebration by Rupa Vira. Join us for a special Mother’s Day Brunch Buffet\, thoughtfully crafted to make this day as memorable as she is. \nDate: Sunday\, May 10\, 2025 Time: 10:00 AM – 3:00 PM Price: $40 per person \nBuffet Highlights: \n\n\nLive Stations: Watch as our chefs prepare your favorites right before your eyes – Live Dosas and more. \n\n\nChaat Corner: Indulge in a variety of traditional street foods\, freshly made and bursting with flavor. \n\n\nTandoor Temptations: Savor the smoky goodness of freshly grilled delicacies straight from the tandoor. \n\n\nMore Delights: Enjoy a selection of signature dishes and desserts\, designed to please every palate. \n\n\nSpecial Features: \n\n\nElegant and festive ambiance \n\n\nPerfect for family gatherings \n\n\nKid-friendly options available \n\n\nReservations are recommended as seating is limited. Celebrate this Mother’s Day in style and give her the gift of an unforgettable meal. \nReserve your table now! \nWe look forward to celebrating this special day with you and your loved ones at Celebration by Rupa Vira! \n 
URL:https://celebrationva.com/event/mothers-day-brunch/
LOCATION:Celebration by Rupa Vira\, 44260 Ice Rink Plaza\, Unit 120\, Ashburn\, VA\, 20147\, United States
CATEGORIES:Chef's Special
ATTACH;FMTTYPE=image/jpeg:https://celebrationva.com/wp-content/uploads/2022/09/Sonia-Rohan-0073-scaled.jpeg
END:VEVENT
END:VCALENDAR