BEGIN:VCALENDAR
VERSION:2.0
PRODID:-//Celebrations by Rupa Vira - ECPv6.15.20//NONSGML v1.0//EN
CALSCALE:GREGORIAN
METHOD:PUBLISH
X-WR-CALNAME:Celebrations by Rupa Vira
X-ORIGINAL-URL:https://celebrationva.com
X-WR-CALDESC:Events for Celebrations by Rupa Vira
REFRESH-INTERVAL;VALUE=DURATION:PT1H
X-Robots-Tag:noindex
X-PUBLISHED-TTL:PT1H
BEGIN:VTIMEZONE
TZID:America/New_York
BEGIN:DAYLIGHT
TZOFFSETFROM:-0500
TZOFFSETTO:-0400
TZNAME:EDT
DTSTART:20240310T070000
END:DAYLIGHT
BEGIN:STANDARD
TZOFFSETFROM:-0400
TZOFFSETTO:-0500
TZNAME:EST
DTSTART:20241103T060000
END:STANDARD
BEGIN:DAYLIGHT
TZOFFSETFROM:-0500
TZOFFSETTO:-0400
TZNAME:EDT
DTSTART:20250309T070000
END:DAYLIGHT
BEGIN:STANDARD
TZOFFSETFROM:-0400
TZOFFSETTO:-0500
TZNAME:EST
DTSTART:20251102T060000
END:STANDARD
BEGIN:DAYLIGHT
TZOFFSETFROM:-0500
TZOFFSETTO:-0400
TZNAME:EDT
DTSTART:20260308T070000
END:DAYLIGHT
BEGIN:STANDARD
TZOFFSETFROM:-0400
TZOFFSETTO:-0500
TZNAME:EST
DTSTART:20261101T060000
END:STANDARD
END:VTIMEZONE
BEGIN:VEVENT
DTSTART;TZID=America/New_York:20250526T113000
DTEND;TZID=America/New_York:20250526T213000
DTSTAMP:20260421T112053
CREATED:20250521T185632Z
LAST-MODIFIED:20250521T185632Z
UID:101547-1748259000-1748295000@celebrationva.com
SUMMARY:Memorial Day Brunch at Celebration by Rupa vira
DESCRIPTION:Monday\, May 26 | 11:30 AM – 3:00 PM \nWe’re honoring Memorial Day with delicious food and warm hospitality — and yes\, we’re OPEN this Monday! \n Join us for a special Memorial Day Brunch featuring our popular brunch dishes served with an elevated twist. Whether you’re planning a relaxed start to your holiday or gathering with loved ones\, let us take care of the cooking. \n What’s on the Menu:\n\n\nBrunch Specials from 11:30 AM – 3:00 PM \n\n\nA la Carte Menu Available All Day \n\n\nSignature Cocktails\, Mocktails & More \n\n\nEnjoy an afternoon of bold flavors\, creative dishes\, and festive vibes — only at Celebration by Rupa Vira. \nMemorial Day Hours\nLunch: 11:30 AM – 3 PM \nDinner: 5 PM – 9:30 PM
URL:https://celebrationva.com/event/memorial-day-brunch-at-celebration-by-rupa-vira/
LOCATION:VA
CATEGORIES:Holidays
ATTACH;FMTTYPE=image/jpeg:https://celebrationva.com/wp-content/uploads/2022/01/2022-01-09-Celebration-by-Rupa-Vira-Food-Photos-Taken-by-RAH-Visuals-110-scaled.jpg
END:VEVENT
END:VCALENDAR